BEGIN:VCALENDAR
VERSION:2.0
PRODID:-//Sabre//Sabre VObject 4.5.8//EN
CALSCALE:GREGORIAN
BEGIN:VEVENT
UID:sabre-vobject-3ff7c773-159b-4eca-b523-d7fb51a0bff8
DTSTAMP:20260422T072540Z
SUMMARY:Rosenkranz
DESCRIPTION:https://www.pg-kempten-ost.de/pfarreien/st-magnus/aktuelles/got
 tesdienste/rosenkranz_id1730726
DTSTART;TZID=Europe/Berlin:20260422T183000
DURATION:PT30M
LOCATION:St. Magnus\, Lenzfrieder Straße 64\, 87437 Kempten-Lenzfried
END:VEVENT
END:VCALENDAR
