BEGIN:VCALENDAR
VERSION:2.0
PRODID:-//Sabre//Sabre VObject 4.5.8//EN
CALSCALE:GREGORIAN
BEGIN:VEVENT
UID:sabre-vobject-18716e3b-4a3f-4644-9474-c640a1208d60
DTSTAMP:20260423T153603Z
SUMMARY:Maiandacht in Leubas
DESCRIPTION:https://www.pg-kempten-ost.de/pfarreien/leubas-ursulasried/aktu
 elles/gottesdienste/maiandacht-in-leubas_id1730733
DTSTART;TZID=Europe/Berlin:20260501T190000
DURATION:PT30M
LOCATION:St. Ursula\, Ursulasrieder Straße 23\, 87437 Ursulasried/Leubas
END:VEVENT
END:VCALENDAR
