BEGIN:VCALENDAR
VERSION:2.0
PRODID:-//Sabre//Sabre VObject 4.5.8//EN
CALSCALE:GREGORIAN
BEGIN:VEVENT
UID:sabre-vobject-6fe81fcf-1239-4d0c-be3e-43333206b137
DTSTAMP:20260422T073114Z
SUMMARY:Heilige Messe in Leubas
DESCRIPTION:https://www.pg-kempten-ost.de/pfarreien/leubas-ursulasried/aktu
 elles/gottesdienste/heilige-messe-in-leubas_id1730734
DTSTART;TZID=Europe/Berlin:20260423T080000
DURATION:PT30M
LOCATION:St. Ursula\, Ursulasrieder Straße 23\, 87437 Ursulasried/Leubas
END:VEVENT
END:VCALENDAR
