BEGIN:VCALENDAR
VERSION:2.0
PRODID:-//Sabre//Sabre VObject 4.5.8//EN
CALSCALE:GREGORIAN
BEGIN:VEVENT
UID:sabre-vobject-1c11f72d-9bd7-4dae-8217-b8e6d3aee5b7
DTSTAMP:20260422T170422Z
SUMMARY:Tauffeier
DESCRIPTION:https://www.pg-kempten-ost.de/pfarreien/st-ulrich/aktuelles/got
 tesdienste/tauffeier_id1730736
DTSTART;TZID=Europe/Berlin:20260425T133000
DURATION:PT30M
LOCATION:St. Ulrich\, Schumacherring 65\, 87437 Kempten
END:VEVENT
END:VCALENDAR
