BEGIN:VCALENDAR
VERSION:2.0
PRODID:-//Sabre//Sabre VObject 4.5.8//EN
CALSCALE:GREGORIAN
BEGIN:VEVENT
UID:sabre-vobject-364f717d-8c07-4f7a-8060-07ba304f427b
DTSTAMP:20260422T103753Z
SUMMARY:Heilige Messe
DESCRIPTION:https://www.pg-kempten-ost.de/pfarreien/st-ulrich/aktuelles/got
 tesdienste/heilige-messe_id1730746
DTSTART;TZID=Europe/Berlin:20260424T090000
DURATION:PT30M
LOCATION:St. Ulrich\, Schumacherring 65\, 87437 Kempten
END:VEVENT
END:VCALENDAR
