BEGIN:VCALENDAR
VERSION:2.0
PRODID:-//Sabre//Sabre VObject 4.5.8//EN
CALSCALE:GREGORIAN
BEGIN:VEVENT
UID:sabre-vobject-3b9381f5-4f1c-4cb8-bb2a-2fdca518090e
DTSTAMP:20260423T132507Z
SUMMARY:Wortgottesdienst mit Kommunionfeier
DESCRIPTION:https://www.pg-kempten-ost.de/pfarreien/mariae-himmelfahrt/aktu
 elles/gottesdienste/wortgottesdienst-mit-kommunionfeier_id1733249
DTSTART;TZID=Europe/Berlin:20260425T190000
DURATION:PT30M
LOCATION:Mariä Himmelfahrt\, Friedrich-Ebert-Straße 2\, 87437 Kempten-St.
  Mang
END:VEVENT
END:VCALENDAR
