BEGIN:VCALENDAR
VERSION:2.0
PRODID:-//Sabre//Sabre VObject 4.5.8//EN
CALSCALE:GREGORIAN
BEGIN:VEVENT
UID:sabre-vobject-89fcb2dd-a365-4ded-b7f0-178efadad95a
DTSTAMP:20260423T165143Z
SUMMARY:Heilige Messe
DESCRIPTION:https://www.pg-kempten-ost.de/pfarreien/mariae-himmelfahrt/aktu
 elles/gottesdienste/heilige-messe_id1733251
DTSTART;TZID=Europe/Berlin:20260429T083000
DURATION:PT30M
LOCATION:Mariä Himmelfahrt\, Friedrich-Ebert-Straße 2\, 87437 Kempten-St.
  Mang
END:VEVENT
END:VCALENDAR
