BEGIN:VCALENDAR
VERSION:2.0
PRODID:-//Sabre//Sabre VObject 4.5.8//EN
CALSCALE:GREGORIAN
BEGIN:VEVENT
UID:sabre-vobject-0f69f0d8-6078-4afe-9c8e-6c196edde8ef
DTSTAMP:20260423T200901Z
SUMMARY:Heilige Messe für alle verstorbenen Mitglieder des Kirchenbauverei
 ns Mariä Himmelfahrt
DESCRIPTION:https://www.pg-kempten-ost.de/pfarreien/mariae-himmelfahrt/aktu
 elles/gottesdienste/heilige-messe-fuer-alle-verstorbenen-mitglieder-des-ki
 rchenbauvereins-mariae-himmelfahrt_id1733253
DTSTART;TZID=Europe/Berlin:20260430T190000
DURATION:PT30M
LOCATION:Mariä Himmelfahrt\, Friedrich-Ebert-Straße 2\, 87437 Kempten-St.
  Mang
END:VEVENT
END:VCALENDAR
