BEGIN:VCALENDAR
VERSION:2.0
PRODID:-//Sabre//Sabre VObject 4.5.8//EN
CALSCALE:GREGORIAN
BEGIN:VEVENT
UID:sabre-vobject-42617a52-5755-4b04-b9af-273110398891
DTSTAMP:20260423T215509Z
SUMMARY:Ökumenischer Gottesdienst auf dem Theodorplatz
DESCRIPTION:https://www.pg-kempten-ost.de/pfarreien/mariae-himmelfahrt/aktu
 elles/gottesdienste/oekumenischer-gottesdienst-auf-dem-theodorplatz_id1733
 254
DTSTART;TZID=Europe/Berlin:20260501T103000
DURATION:PT30M
LOCATION:Mariä Himmelfahrt\, Friedrich-Ebert-Straße 2\, 87437 Kempten-St.
  Mang
END:VEVENT
END:VCALENDAR
