BEGIN:VCALENDAR
VERSION:2.0
PRODID:-//Sabre//Sabre VObject 4.5.8//EN
CALSCALE:GREGORIAN
BEGIN:VEVENT
UID:sabre-vobject-2f7a6a13-a6fa-41b0-8720-ffc6dbeb4506
DTSTAMP:20260423T232736Z
SUMMARY:Maiandacht
DESCRIPTION:https://www.pg-kempten-ost.de/pfarreien/mariae-himmelfahrt/aktu
 elles/gottesdienste/maiandacht_id1733255
DTSTART;TZID=Europe/Berlin:20260501T190000
DURATION:PT30M
LOCATION:Mariä Himmelfahrt\, Friedrich-Ebert-Straße 2\, 87437 Kempten-St.
  Mang
END:VEVENT
END:VCALENDAR
