BEGIN:VCALENDAR
VERSION:2.0
PRODID:-//Sabre//Sabre VObject 4.5.8//EN
CALSCALE:GREGORIAN
BEGIN:VEVENT
UID:sabre-vobject-69780d79-73f7-4850-b7f8-6b06fa0b26bc
DTSTAMP:20260423T153058Z
SUMMARY:Wallfahrt nach Leuterschach\n(Wallfahrtsgottesdienst um 10 Uhr in L
 euterschach)
DESCRIPTION:https://www.pg-kempten-ost.de/pfarreien/st-magnus/aktuelles/got
 tesdienste/wallfahrt-nach-leuterschach-wallfahrtsgottesdienst-um-10-uhr-in
 -leuterschach_id1733260
DTSTART;TZID=Europe/Berlin:20260425T050000
DURATION:PT30M
LOCATION:St. Magnus\, Lenzfrieder Straße 64\, 87437 Kempten-Lenzfried
END:VEVENT
END:VCALENDAR
