BEGIN:VCALENDAR
VERSION:2.0
PRODID:-//Sabre//Sabre VObject 4.5.8//EN
CALSCALE:GREGORIAN
BEGIN:VEVENT
UID:sabre-vobject-a64aaa49-6c48-4858-b4db-92cec2060444
DTSTAMP:20260423T204844Z
SUMMARY:Heilige Messe
DESCRIPTION:https://www.pg-kempten-ost.de/pfarreien/st-magnus/aktuelles/got
 tesdienste/heilige-messe_id1733263
DTSTART;TZID=Europe/Berlin:20260429T190000
DURATION:PT30M
LOCATION:St. Magnus\, Lenzfrieder Straße 64\, 87437 Kempten-Lenzfried
END:VEVENT
END:VCALENDAR
