BEGIN:VCALENDAR
VERSION:2.0
PRODID:-//Sabre//Sabre VObject 4.5.8//EN
CALSCALE:GREGORIAN
BEGIN:VEVENT
UID:sabre-vobject-949e1651-d64c-4070-8a38-f712d00b7e6c
DTSTAMP:20260423T223531Z
SUMMARY:Feierliche Maiandacht
DESCRIPTION:https://www.pg-kempten-ost.de/pfarreien/st-magnus/aktuelles/got
 tesdienste/feierliche-maiandacht_id1733264
DTSTART;TZID=Europe/Berlin:20260501T190000
DURATION:PT30M
LOCATION:St. Magnus\, Lenzfrieder Straße 64\, 87437 Kempten-Lenzfried
END:VEVENT
END:VCALENDAR
