BEGIN:VCALENDAR
VERSION:2.0
PRODID:-//Sabre//Sabre VObject 4.5.8//EN
CALSCALE:GREGORIAN
BEGIN:VEVENT
UID:sabre-vobject-6edebc66-e687-493d-a571-a94d84b87e54
DTSTAMP:20260423T102727Z
SUMMARY:Rosenkranz
DESCRIPTION:https://www.pg-kempten-ost.de/pfarreien/st-magnus/aktuelles/got
 tesdienste/rosenkranz_id1733265
DTSTART;TZID=Europe/Berlin:20260424T183000
DURATION:PT30M
LOCATION:St. Magnus\, Lenzfrieder Straße 64\, 87437 Kempten-Lenzfried
END:VEVENT
END:VCALENDAR
