BEGIN:VCALENDAR
VERSION:2.0
PRODID:-//Sabre//Sabre VObject 4.5.8//EN
CALSCALE:GREGORIAN
BEGIN:VEVENT
UID:sabre-vobject-3c0a4144-8fbc-4efe-a1d8-71a211ec179c
DTSTAMP:20260423T121237Z
SUMMARY:Heilige Messe in Ursulasried
DESCRIPTION:https://www.pg-kempten-ost.de/pfarreien/leubas-ursulasried/aktu
 elles/gottesdienste/heilige-messe-in-ursulasried_id1733267
DTSTART;TZID=Europe/Berlin:20260428T180000
DURATION:PT30M
LOCATION:St. Ursula\, Ursulasrieder Straße 23\, 87437 Ursulasried/Leubas
END:VEVENT
END:VCALENDAR
