BEGIN:VCALENDAR
VERSION:2.0
PRODID:-//Sabre//Sabre VObject 4.5.8//EN
CALSCALE:GREGORIAN
BEGIN:VEVENT
UID:sabre-vobject-c86ef3bb-6b07-4c2e-893e-4efee6dad8d9
DTSTAMP:20260423T135244Z
SUMMARY:Heilige Messe in Leubas
DESCRIPTION:https://www.pg-kempten-ost.de/pfarreien/leubas-ursulasried/aktu
 elles/gottesdienste/heilige-messe-in-leubas_id1733269
DTSTART;TZID=Europe/Berlin:20260430T080000
DURATION:PT30M
LOCATION:St. Ursula\, Ursulasrieder Straße 23\, 87437 Ursulasried/Leubas
END:VEVENT
END:VCALENDAR
