BEGIN:VCALENDAR
VERSION:2.0
PRODID:-//Sabre//Sabre VObject 4.5.8//EN
CALSCALE:GREGORIAN
BEGIN:VEVENT
UID:sabre-vobject-0d40030f-d95f-4ccd-985f-28e5cb7ae449
DTSTAMP:20260423T142243Z
SUMMARY:Rosenkranz
DESCRIPTION:https://www.pg-kempten-ost.de/pfarreien/st-ulrich/aktuelles/got
 tesdienste/rosenkranz_id1733271
DTSTART;TZID=Europe/Berlin:20260427T170000
DURATION:PT30M
LOCATION:St. Ulrich\, Schumacherring 65\, 87437 Kempten
END:VEVENT
END:VCALENDAR
