BEGIN:VCALENDAR
VERSION:2.0
PRODID:-//Sabre//Sabre VObject 4.5.8//EN
CALSCALE:GREGORIAN
BEGIN:VEVENT
UID:sabre-vobject-5bf0f676-6bfd-4c8d-9164-943127c06e86
DTSTAMP:20260423T211447Z
SUMMARY:Friedensrosenkranz
DESCRIPTION:https://www.pg-kempten-ost.de/pfarreien/st-ulrich/aktuelles/got
 tesdienste/friedensrosenkranz_id1733277
DTSTART;TZID=Europe/Berlin:20260429T170000
DURATION:PT30M
LOCATION:St. Ulrich\, Schumacherring 65\, 87437 Kempten
END:VEVENT
END:VCALENDAR
