BEGIN:VCALENDAR
VERSION:2.0
PRODID:-//Sabre//Sabre VObject 4.5.8//EN
CALSCALE:GREGORIAN
BEGIN:VEVENT
UID:sabre-vobject-e0a2d3a9-b7b0-4fa5-bf36-4ce2701271f2
DTSTAMP:20260423T225843Z
SUMMARY:Taizé - Gebet in der Marienkapelle
DESCRIPTION:https://www.pg-kempten-ost.de/pfarreien/st-ulrich/aktuelles/got
 tesdienste/taize-gebet-in-der-marienkapelle_id1733278
DTSTART;TZID=Europe/Berlin:20260429T200000
DURATION:PT30M
LOCATION:St. Ulrich\, Schumacherring 65\, 87437 Kempten
END:VEVENT
END:VCALENDAR
