BEGIN:VCALENDAR
VERSION:2.0
PRODID:-//Sabre//Sabre VObject 4.5.8//EN
CALSCALE:GREGORIAN
BEGIN:VEVENT
UID:sabre-vobject-18b277e2-6d8c-45c4-97ee-642b59d9f18d
DTSTAMP:20260424T011017Z
SUMMARY:Gebetskreis
DESCRIPTION:https://www.pg-kempten-ost.de/pfarreien/st-ulrich/aktuelles/got
 tesdienste/gebetskreis_id1733279
DTSTART;TZID=Europe/Berlin:20260430T170000
DURATION:PT30M
LOCATION:St. Ulrich\, Schumacherring 65\, 87437 Kempten
END:VEVENT
END:VCALENDAR
