BEGIN:VCALENDAR
VERSION:2.0
PRODID:-//Sabre//Sabre VObject 4.5.8//EN
CALSCALE:GREGORIAN
BEGIN:VEVENT
UID:sabre-vobject-623a1974-7c26-431f-bef8-ca29cd7eec4a
DTSTAMP:20260423T070727Z
SUMMARY:Heilige Messe im Marienheim
DESCRIPTION:https://www.pg-kempten-ost.de/pfarreien/st-ulrich/aktuelles/got
 tesdienste/heilige-messe-im-marienheim_id1733282
DTSTART;TZID=Europe/Berlin:20260424T100000
DURATION:PT30M
LOCATION:St. Ulrich\, Schumacherring 65\, 87437 Kempten
END:VEVENT
END:VCALENDAR
