BEGIN:VCALENDAR
VERSION:2.0
PRODID:-//Sabre//Sabre VObject 4.5.8//EN
CALSCALE:GREGORIAN
BEGIN:VEVENT
UID:sabre-vobject-034e681a-87a3-452b-8bae-50c00fc23c18
DTSTAMP:20260420T134726Z
SUMMARY:Bibel teilen
DESCRIPTION:https://www.pg-kempten-ost.de/aktuelles/bibel-teilen_id774531
DTSTART;TZID=Europe/Berlin:20260424T200000
DURATION:PT30M
END:VEVENT
END:VCALENDAR
